BEGIN:VCALENDAR
VERSION:2.0
PRODID:-//Elizabeth Winthrop Alsop - ECPv6.15.20//NONSGML v1.0//EN
CALSCALE:GREGORIAN
METHOD:PUBLISH
X-WR-CALNAME:Elizabeth Winthrop Alsop
X-ORIGINAL-URL:https://elizabethwinthrop.com
X-WR-CALDESC:Events for Elizabeth Winthrop Alsop
REFRESH-INTERVAL;VALUE=DURATION:PT1H
X-Robots-Tag:noindex
X-PUBLISHED-TTL:PT1H
BEGIN:VTIMEZONE
TZID:America/New_York
BEGIN:DAYLIGHT
TZOFFSETFROM:-0500
TZOFFSETTO:-0400
TZNAME:EDT
DTSTART:20210314T070000
END:DAYLIGHT
BEGIN:STANDARD
TZOFFSETFROM:-0400
TZOFFSETTO:-0500
TZNAME:EST
DTSTART:20211107T060000
END:STANDARD
BEGIN:DAYLIGHT
TZOFFSETFROM:-0500
TZOFFSETTO:-0400
TZNAME:EDT
DTSTART:20220313T070000
END:DAYLIGHT
BEGIN:STANDARD
TZOFFSETFROM:-0400
TZOFFSETTO:-0500
TZNAME:EST
DTSTART:20221106T060000
END:STANDARD
BEGIN:DAYLIGHT
TZOFFSETFROM:-0500
TZOFFSETTO:-0400
TZNAME:EDT
DTSTART:20230312T070000
END:DAYLIGHT
BEGIN:STANDARD
TZOFFSETFROM:-0400
TZOFFSETTO:-0500
TZNAME:EST
DTSTART:20231105T060000
END:STANDARD
BEGIN:DAYLIGHT
TZOFFSETFROM:-0500
TZOFFSETTO:-0400
TZNAME:EDT
DTSTART:20240310T070000
END:DAYLIGHT
BEGIN:STANDARD
TZOFFSETFROM:-0400
TZOFFSETTO:-0500
TZNAME:EST
DTSTART:20241103T060000
END:STANDARD
END:VTIMEZONE
BEGIN:VEVENT
DTSTART;TZID=America/New_York:20230513T110000
DTEND;TZID=America/New_York:20230513T120000
DTSTAMP:20260423T185110
CREATED:20220826T192504Z
LAST-MODIFIED:20221010T135015Z
UID:2539-1683975600-1683979200@elizabethwinthrop.com
SUMMARY:Podcast: Writer's Table
DESCRIPTION:Please note that the current podcast times are for taping purposes. The calendar will be updated as soon as the airing dates are available.
URL:https://elizabethwinthrop.com/event/podcast-writers-table/
LOCATION:NY
CATEGORIES:Daughter of Spies,Podcasts
ATTACH;FMTTYPE=image/png:https://elizabethwinthrop.com/wp-content/uploads/2022/08/Book-Review.png
END:VEVENT
BEGIN:VEVENT
DTSTART;TZID=America/New_York:20230501T000000
DTEND;TZID=America/New_York:20230501T000000
DTSTAMP:20260423T185110
CREATED:20230405T155256Z
LAST-MODIFIED:20230405T155256Z
UID:2802-1682899200-1682899200@elizabethwinthrop.com
SUMMARY:Book Club Talk
DESCRIPTION:This is a private Book Club chat via Zoom.  You can contact Elizabeth to arrange a visit of your own.
URL:https://elizabethwinthrop.com/event/book-club-talk-4/
LOCATION:NY
CATEGORIES:Book Club,Daughter of Spies
END:VEVENT
BEGIN:VEVENT
DTSTART;TZID=America/New_York:20230424T190000
DTEND;TZID=America/New_York:20230424T200000
DTSTAMP:20260423T185110
CREATED:20221209T171720Z
LAST-MODIFIED:20221209T171720Z
UID:2721-1682362800-1682366400@elizabethwinthrop.com
SUMMARY:Book Club Talk
DESCRIPTION:This is a private Book Club chat via Zoom.  You can contact Elizabeth to arrange a visit of your own.
URL:https://elizabethwinthrop.com/event/book-club-talk/
LOCATION:NY
END:VEVENT
BEGIN:VEVENT
DTSTART;TZID=America/New_York:20230412T183000
DTEND;TZID=America/New_York:20230412T183000
DTSTAMP:20260423T185110
CREATED:20220826T194350Z
LAST-MODIFIED:20230215T172019Z
UID:2546-1681324200-1681324200@elizabethwinthrop.com
SUMMARY:In Person: Books and Books
DESCRIPTION:Elizabeth Winthrop Alsop\nin-conversation with Rosalind Brackenbury discussing her memoir\nDAUGHTER OF SPIES\n(Pact Press\, $17.95) \n\nWEDNESDAY\, APRIL 12TH\, 6:30PM ET\nDOORS OPEN TO HUGH’S VIEW AT 6PM\n  \nABOUT THE BOOK: As a child\, Elizabeth Winthrop Alsop\, along with her five brothers\, was raised to revere the tribal legends of the Alsop and Roosevelt families. Her parents’ marriage\, lived in the spotlight of 1950s Washington where the author’s father\, journalist Stewart Alsop\, grew increasingly famous\, was not what either of  her parents had imagined it would be. Her mother’s strict Catholicism and her father’s restless ambition collided to create a strangely muted and ominous world\, one that mirrored the whispered conversations in the living room as the power brokers of Washington came and went through their side door. Through it all\, her mother\, trained to keep secrets as a decoding agent with MI5\, said very little. In this brave memoir\, the author explores who her mother was\, why alcohol played such an important role in her mother’s life\, and why her mother held herself apart from all her children\, especially her only daughter. In the author’s journey to understand her parents\, particularly her mother\, she comes to realize that the secrets parents keep are the ones that reverberate most powerfully in the lives of their children. \n  \nABOUT THE AUTHOR: Elizabeth Winthrop Alsop is the author of over sixty works of fiction for all ages\, including the novels Island Justice and In My Mother’s House. Robert Stone selected her short story\, “The Golden Darters\,” for Best American Short Stories. Her fantasy novels for children\, The Castle in the Attic and The Battle for the Castle\, are considered classics of the genre. Daughter of Spies is her first memoir. \nABOUT THE MODERATOR: Rosalind Brackenbury was born in London\, England\, and has also lived in Scotland and France. She now lives in Key West\, Florida\, with her husband of 28 years. She was Key West’s second Poet Laureate in 2014-15. Her latest poetry collection Invisible Horses came out with Hanging Loose Press in May 2019. Her most recent novel\, Without Her was published by Delphinium Books in July 2019 and was reviewed by Kirkus Reviews as: “A steady\, cool\, thoughtful novel…a meditation on loyalty\, friendship\, and the geometry of human interconnections.” Her novella\, Elena\, Leo\, Rose came out in May 2022 from Open Boat Press\, and a new novel\, Bone Whispers is due out from Epicenter Press in 2024. \n\n\n\nThis is an in-person event taking place outdoors. Seating is limited.\n\n\n\nPlease register ahead of time to guarantee your attendance at this event.\nIn the event of bad weather this event may move indoors. \nREGISTER HERE
URL:https://elizabethwinthrop.com/event/in-person-books-and-books/
LOCATION:Books and Books\, 533 Eaton Street\, Key West\, FL\, 33040
CATEGORIES:Daughter of Spies
ATTACH;FMTTYPE=image/png:https://elizabethwinthrop.com/wp-content/uploads/2022/08/Books-and-Books.png
END:VEVENT
BEGIN:VEVENT
DTSTART;TZID=America/New_York:20230321T160000
DTEND;TZID=America/New_York:20230321T170000
DTSTAMP:20260423T185110
CREATED:20220826T190458Z
LAST-MODIFIED:20230206T161131Z
UID:2520-1679414400-1679418000@elizabethwinthrop.com
SUMMARY:In Person: Johann Fust Library
DESCRIPTION:Tickets are free to registration is encouraged.  Use the link below to sign up today. \n  \nRegistration
URL:https://elizabethwinthrop.com/event/johann-fust-library/
LOCATION:Johann Fust Library\, 1040 West 10th Street\, Boca Grande\, FL\, 33921
CATEGORIES:Daughter of Spies
ATTACH;FMTTYPE=image/png:https://elizabethwinthrop.com/wp-content/uploads/2022/08/JF-Library.png
END:VEVENT
BEGIN:VEVENT
DTSTART;TZID=America/New_York:20230317T113000
DTEND;TZID=America/New_York:20230317T133000
DTSTAMP:20260423T185110
CREATED:20221104T161000Z
LAST-MODIFIED:20230126T154905Z
UID:2707-1679052600-1679059800@elizabethwinthrop.com
SUMMARY:In Person: Love of Literacy
DESCRIPTION:Elizabeth will be speaking at the annual LOVE OF LITERACY luncheon\, Literacy Services of Indian River County.  The event will take place at the Quail Valley River Club\, Vero Beach\, FL. \nYou can learn more about the Literacy Services of Indian River County on their website.  Click Here \n\nLove of Literacy Luncheon\n\nAn engaging\, enjoyable\, and educational fundraising luncheon to support the life-changing work of Literacy Services of IRC. \n\nCelebrate & Support Adult Literacy! \nJoin us for a lovely afternoon focused on the power of adult literacy! \nEnjoy a delicious lunch while enjoying the words of wisdom from our featured speaker\, Elizabeth Winthrop Alsop\, extraordinary author of Daughter of Spies: Wartime Secrets\, Family Lies. \n\n\nReserve your seat today\nTo RSVP for the event and request an invitation in the mail\, please email RSVP@literacyservicesirc.org. \n\n\nPurchase Tickets \n\n2023 Event Sponsorship Opportunities
URL:https://elizabethwinthrop.com/event/in-person-love-of-literacy/
LOCATION:Quail Valley River Club\, 2345 Florida A1A\, Vero Beach\, FL\, 32963
ATTACH;FMTTYPE=image/png:https://elizabethwinthrop.com/wp-content/uploads/2022/11/Indian-Fiver-Literacy.png
END:VEVENT
BEGIN:VEVENT
DTSTART;TZID=America/New_York:20230309T000000
DTEND;TZID=America/New_York:20230309T000000
DTSTAMP:20260423T185110
CREATED:20230206T161921Z
LAST-MODIFIED:20230206T161921Z
UID:2760-1678320000-1678320000@elizabethwinthrop.com
SUMMARY:Book Club Talk
DESCRIPTION:This is a private Book Club chat via Zoom.  You can contact Elizabeth to arrange a visit of your own.
URL:https://elizabethwinthrop.com/event/book-club-talk-3/
LOCATION:NY
END:VEVENT
BEGIN:VEVENT
DTSTART;TZID=America/New_York:20230228T000000
DTEND;TZID=America/New_York:20230228T000000
DTSTAMP:20260423T185110
CREATED:20230206T161850Z
LAST-MODIFIED:20230206T161850Z
UID:2758-1677542400-1677542400@elizabethwinthrop.com
SUMMARY:Book Club Talk
DESCRIPTION:This is a private Book Club chat via Zoom.  You can contact Elizabeth to arrange a visit of your own.
URL:https://elizabethwinthrop.com/event/book-club-talk-2/
LOCATION:NY
END:VEVENT
BEGIN:VEVENT
DTSTART;TZID=America/New_York:20230211T000000
DTEND;TZID=America/New_York:20230211T000000
DTSTAMP:20260423T185110
CREATED:20230206T161654Z
LAST-MODIFIED:20230206T161747Z
UID:2755-1676073600-1676073600@elizabethwinthrop.com
SUMMARY:Private In Person
DESCRIPTION:Private event in association with the Beverly Farms Bookshop\, Beverly Farms\, Massachusetts. \nYou can contact Elizabeth to arrange a visit of your own.
URL:https://elizabethwinthrop.com/event/private-in-person/
LOCATION:NY
END:VEVENT
BEGIN:VEVENT
DTSTART;TZID=America/New_York:20230126T120000
DTEND;TZID=America/New_York:20230126T120000
DTSTAMP:20260423T185110
CREATED:20220826T185752Z
LAST-MODIFIED:20220828T211230Z
UID:2518-1674734400-1674734400@elizabethwinthrop.com
SUMMARY:In Person: Lunchtime Talk\, Private Event
DESCRIPTION:
URL:https://elizabethwinthrop.com/event/colony-club-lunchtime-talk-private-event/
LOCATION:Colony Club\, New York\, NY
CATEGORIES:Daughter of Spies
ATTACH;FMTTYPE=image/png:https://elizabethwinthrop.com/wp-content/uploads/2022/08/Colony-CLub.png
END:VEVENT
BEGIN:VEVENT
DTSTART;TZID=America/New_York:20230119T193000
DTEND;TZID=America/New_York:20230119T203000
DTSTAMP:20260423T185110
CREATED:20221209T171532Z
LAST-MODIFIED:20221209T172036Z
UID:2719-1674156600-1674160200@elizabethwinthrop.com
SUMMARY:Book Club Talk
DESCRIPTION:This is a private Book Club chat.  You can contact Elizabeth to arrange a visit of your own.
URL:https://elizabethwinthrop.com/event/in-person-book-club-talk-2/
LOCATION:NY
END:VEVENT
BEGIN:VEVENT
DTSTART;TZID=America/New_York:20230118T190000
DTEND;TZID=America/New_York:20230118T200000
DTSTAMP:20260423T185110
CREATED:20221021T170034Z
LAST-MODIFIED:20221021T170752Z
UID:2674-1674068400-1674072000@elizabethwinthrop.com
SUMMARY:Zoom: A Conversation with Heather Harpham\, Sarah Lawrence College
DESCRIPTION:Zoom interview with Heather Harpham\, professor in the Graduate Writing program at Sarah Lawrence College on January 18th at 7 pm. \nOpen to Sarah Lawrence College Alumnae.
URL:https://elizabethwinthrop.com/event/zoom-a-conversation-with-heather-harpham-sarah-lawrence-college/
LOCATION:NY
CATEGORIES:Daughter of Spies,Live Broadcast
ATTACH;FMTTYPE=image/png:https://elizabethwinthrop.com/wp-content/uploads/2022/10/Sarah-Lawrence.png
END:VEVENT
BEGIN:VEVENT
DTSTART;TZID=America/New_York:20230109T190000
DTEND;TZID=America/New_York:20230109T200000
DTSTAMP:20260423T185110
CREATED:20221209T171308Z
LAST-MODIFIED:20221209T171750Z
UID:2717-1673290800-1673294400@elizabethwinthrop.com
SUMMARY:Book Club Talk
DESCRIPTION:This is a private Book Club chat.  You can contact Elizabeth to arrange a visit of your own.
URL:https://elizabethwinthrop.com/event/in-person-book-club-talk/
LOCATION:NY
CATEGORIES:Book Club,Daughter of Spies
END:VEVENT
BEGIN:VEVENT
DTSTART;TZID=America/New_York:20221117T130000
DTEND;TZID=America/New_York:20221117T130000
DTSTAMP:20260423T185110
CREATED:20220826T192320Z
LAST-MODIFIED:20221010T135234Z
UID:2537-1668690000-1668690000@elizabethwinthrop.com
SUMMARY:Podcast: Writer's Forum
DESCRIPTION:Please note that the current podcast times are for taping purposes. The calendar will be updated as soon as the airing dates are available.
URL:https://elizabethwinthrop.com/event/podcast-writers-forum/
LOCATION:NY
CATEGORIES:Daughter of Spies,Podcasts
ATTACH;FMTTYPE=image/png:https://elizabethwinthrop.com/wp-content/uploads/2022/08/Wrbh.png
END:VEVENT
BEGIN:VEVENT
DTSTART;TZID=America/New_York:20221114T180000
DTEND;TZID=America/New_York:20221114T180000
DTSTAMP:20260423T185110
CREATED:20221004T205431Z
LAST-MODIFIED:20221021T170350Z
UID:2641-1668448800-1668448800@elizabethwinthrop.com
SUMMARY:Livestream: In conversation with Tim Gunn
DESCRIPTION:Click here to attend in person.  \nThe daughter of a famous journalist and his young British bride looks backward at her parents’ storied love affair in London during World War II. In exploring their memories of that long-ago time through her father’s writings and her mother’s stories\, she discovers that their wartime secret-keeping became a habit that undermined the peacetime marriage. \nAs a child\, Elizabeth Winthrop Alsop\, along with her five brothers\, was raised to revere the tribal legends of the Alsop and Roosevelt families. Her parents’ marriage\, lived in the spotlight of 1950s Washington where the author’s father\, journalist Stewart Alsop\, grew increasingly famous\, was not what either of her parents had imagined it would be. Her mother’s strict Catholicism and her father’s restless ambition collided to create a strangely muted and ominous world\, one that mirrored the whispered conversations in the living room as the power brokers of Washington came and went through their side door. Through it all\, her mother\, trained to keep secrets as a decoding agent with MI5\, said very little. In this brave memoir\, the author explores who her mother was\, why alcohol played such an important role in her mother’s life\, and why her mother held herself apart from all her children\, especially her only daughter. In the author’s journey to understand her parents\, particularly her mother\, she comes to realize that the secrets parents keep are the ones that reverberate most powerfully in the lives of their children. \nIn this special event\, Alsop converses with Tim Gunn who\, as the son of an FBI agent and a CIA librarian\, grew up in the same strangely muted and ominous world that was cold war Washington. \nElizabeth Winthrop Alsop is the author of over sixty works of fiction for all ages\, including the novels Island Justice and In My Mother’s House. Robert Stone selected her short story “The Golden Darters\,” for Best American Short Stories. Her fantasy novels for children\, The Castle in the Attic and The Battle for the Castle\, are considered classics of the genre. Daughter of Spies is her first memoir. \nTim Gunn is the Emmy Award winning co-host of the global fashion competition Making the Cut\, an Amazon original series that premiered in 2020 on Prime Video. He is the former co-host of the first 16 seasons of Project Runway\, which began airing in 2004. A New York Times bestselling author\, his 4th book\, The Natty Professor\, was released in 2015 and chronicles his 29 years as an educator. Gunn spent 24 of those years as a teacher and administrator at Parsons School of Design\, the last seven of which he served as chair of the department of fashion design. Author photo by Scott McDermott
URL:https://elizabethwinthrop.com/event/livestream-elizabeth-winthrop-alsop-with-tim-gunn-daughter-of-spies-wartime-secrets-family-lies/
LOCATION:New York Society Library\, 53 East 79th Street\, New York\, NY\, 10075
CATEGORIES:Daughter of Spies,Live Broadcast
END:VEVENT
BEGIN:VEVENT
DTSTART;TZID=America/New_York:20221114T180000
DTEND;TZID=America/New_York:20221114T180000
DTSTAMP:20260423T185110
CREATED:20220826T185236Z
LAST-MODIFIED:20221006T181711Z
UID:2515-1668448800-1668448800@elizabethwinthrop.com
SUMMARY:In Person: In conversation with Tim Gunn
DESCRIPTION:Note:  The author will be happy to sign all books ordered through the Corner Bookstore\, (212) 831-3554 \nThe daughter of a famous journalist and his young British bride looks backward at her parents’ storied love affair in London during World War II. In exploring their memories of that long-ago time through her father’s writings and her mother’s stories\, she discovers that their wartime secret-keeping became a habit that undermined the peacetime marriage. \nAs a child\, Elizabeth Winthrop Alsop\, along with her five brothers\, was raised to revere the tribal legends of the Alsop and Roosevelt families. Her parents’ marriage\, lived in the spotlight of 1950s Washington where the author’s father\, journalist Stewart Alsop\, grew increasingly famous\, was not what either of her parents had imagined it would be. Her mother’s strict Catholicism and her father’s restless ambition collided to create a strangely muted and ominous world\, one that mirrored the whispered conversations in the living room as the power brokers of Washington came and went through their side door. Through it all\, her mother\, trained to keep secrets as a decoding agent with MI5\, said very little. In this brave memoir\, the author explores who her mother was\, why alcohol played such an important role in her mother’s life\, and why her mother held herself apart from all her children\, especially her only daughter. In the author’s journey to understand her parents\, particularly her mother\, she comes to realize that the secrets parents keep are the ones that reverberate most powerfully in the lives of their children. \nIn this special event\, Alsop converses with Tim Gunn who\, as the son of an FBI agent and a CIA librarian\, grew up in the same strangely muted and ominous world that was cold war Washington. \nElizabeth Winthrop Alsop is the author of over sixty works of fiction for all ages\, including the novels Island Justice and In My Mother’s House. Robert Stone selected her short story “The Golden Darters\,” for Best American Short Stories. Her fantasy novels for children\, The Castle in the Attic and The Battle for the Castle\, are considered classics of the genre. Daughter of Spies is her first memoir. \nTim Gunn is the Emmy Award winning co-host of the global fashion competition Making the Cut\, an Amazon original series that premiered in 2020 on Prime Video. He is the former co-host of the first 16 seasons of Project Runway\, which began airing in 2004. A New York Times bestselling author\, his 4th book\, The Natty Professor\, was released in 2015 and chronicles his 29 years as an educator. Gunn spent 24 of those years as a teacher and administrator at Parsons School of Design\, the last seven of which he served as chair of the department of fashion design. Author photo by Scott McDermott
URL:https://elizabethwinthrop.com/event/in-conversation-with-tim-gunn/
LOCATION:New York Society Library\, 53 East 79th Street\, New York\, NY\, 10075
CATEGORIES:Daughter of Spies
ATTACH;FMTTYPE=image/png:https://elizabethwinthrop.com/wp-content/uploads/2022/08/NY-Society-Library.png
END:VEVENT
BEGIN:VEVENT
DTSTART;TZID=America/New_York:20221111T170000
DTEND;TZID=America/New_York:20221111T170000
DTSTAMP:20260423T185110
CREATED:20220826T184632Z
LAST-MODIFIED:20221013T184756Z
UID:2512-1668186000-1668186000@elizabethwinthrop.com
SUMMARY:In Person:  In conversation with Jesse Nasta
DESCRIPTION:A Daughter Remembers \nElizabeth Winthrop Alsop teams up with Jesse Nasta of the Middlesex County Historical Society to present Elizabeth’s new book Daughter of Spies. \nClick here to Attend.   |  Click here to order your copy.  \nAs a child\, Elizabeth Winthrop Alsop\, along with her five brothers\, was raised to revere the tribal legends of the Alsop and Roosevelt families. Her parents’ marriage\, lived in the spotlight of 1950s Washington where the author’s father\, journalist Stewart Alsop\, grew increasingly famous\, was not what either of her parents had imagined it would be. Her mother’s strict Catholicism and her father’s restless ambition collided to create a strangely muted and ominous world\, one that mirrored the whispered conversations in the living room as the power brokers of Washington came and went through their side door. Through it all\, her mother\, trained to keep secrets as a decoding agent with MI5\, said very little. In this brave memoir\, the author explores who her mother was\, why alcohol played such an important role in her mother’s life\, and why her mother held herself apart from all her children\, especially her only daughter. In the author’s journey to understand her parents\, particularly her mother\, she comes to realize that the secrets parents keep are the ones that reverberate most powerfully in the lives of their children. \nElizabeth Winthrop Alsop (www.elizabethwinthropalsop.com) is the author of over sixty works of fiction for all ages\, including the novels Island Justice and In My Mother’s House. Robert Stone selected her short story\, “The Golden Darters\,” for Best American Short Stories. Her fantasy novels for children\, The Castle in the Attic and The Battle for the Castle\, are considered classics of the genre. Daughter of Spies is her first memoir.
URL:https://elizabethwinthrop.com/event/middlesex-historical-society/
LOCATION:RJ Julia Bookstore\, 413 Main Street\, Middletown\, CT\, 06457
CATEGORIES:Daughter of Spies
ATTACH;FMTTYPE=image/png:https://elizabethwinthrop.com/wp-content/uploads/2022/08/MCHS-Logo-Copy.png
END:VEVENT
BEGIN:VEVENT
DTSTART;TZID=America/New_York:20221105T150000
DTEND;TZID=America/New_York:20221105T160000
DTSTAMP:20260423T185110
CREATED:20220826T183035Z
LAST-MODIFIED:20221101T183615Z
UID:2506-1667660400-1667664000@elizabethwinthrop.com
SUMMARY:In Person: In Conversation with Evan Thomas
DESCRIPTION:Elizabeth Winthrop Alsop is the author of over sixty works of fiction for all ages\, including the novels Island Justice and In My Mother’s House. Robert Stone selected her short story\, “The Golden Darters\,” for Best American Short Stories. Her fantasy novels for children\, The Castle in the Attic and The Battle for the Castle\, are considered classics of the genre. Daughter of Spies is her first memoir. \nWinthrop will be in conversation with Evan Thomas. Thomas is the author of ten books including\, The Wise Men (with Walter Isaacson)\, The Man to See and\, The Very Best Men\, among others. Thomas was a writer\, editor and correspondent for 33 years at Time and Newsweek magazines\, including ten years as Newsweek’s Washington bureau chief. He has appeared on many TV shows\, including Meet the Press\, CBS Morning News\, Morning Joe and the Colbert Report. Thomas has taught writing and journalism at Harvard and Princeton. His next book\, about the last two weeks of the Pacific War\, will be out in June 2023.
URL:https://elizabethwinthrop.com/event/in-conversation-with-evan-thomas/
LOCATION:Politics and Prose\, 5015 Connecticut Ave NW\, Washington\, DC\, 20008
CATEGORIES:Daughter of Spies
ATTACH;FMTTYPE=image/png:https://elizabethwinthrop.com/wp-content/uploads/2022/08/Politics-and-Prose-Event-2.png
END:VEVENT
BEGIN:VEVENT
DTSTART;TZID=America/New_York:20221102T180000
DTEND;TZID=America/New_York:20221102T180000
DTSTAMP:20260423T185110
CREATED:20221101T183052Z
LAST-MODIFIED:20221101T183521Z
UID:2697-1667412000-1667412000@elizabethwinthrop.com
SUMMARY:Facebook Live:  In Conversation with Savy Malenka\, Caring Caregivers
DESCRIPTION:You can join the author at this Facebook link for a live conversation with Savy Malenka of the Caring Caregiver show on Wednesday\, November 2  at 6 pm EDT about Alsop’s memoir\, Daughter of Spies\, Wartime Secrets\, Family Lies. \n \nWelcome to Episode 4 of Season 7 of the Caring Caregiver Show\, sponsored by Givers Guides online magazine\, your guide to Caregiving! We’re here to bring back the joy of Caregiving\, we help Caregivers RELAX – RENEW –RESOURCE – REVIVE\, because we know you’re tired and frustrated and you DESERVE some “CARING”! \n 
URL:https://elizabethwinthrop.com/event/online-event-gimme-a-break-respite-is-a-need/
LOCATION:NY
CATEGORIES:Live Broadcast
ATTACH;FMTTYPE=image/jpeg:https://elizabethwinthrop.com/wp-content/uploads/2022/11/Caring-Caregiver-avatar.jpg
END:VEVENT
BEGIN:VEVENT
DTSTART;VALUE=DATE:20221102
DTEND;VALUE=DATE:20221103
DTSTAMP:20260423T185110
CREATED:20220826T191849Z
LAST-MODIFIED:20221010T175347Z
UID:2531-1667347200-1667433599@elizabethwinthrop.com
SUMMARY:Podcast: Late Bloomer Living
DESCRIPTION:Air date November 2\, 2022
URL:https://elizabethwinthrop.com/event/podcast-late-bloomer-living/
LOCATION:NY
CATEGORIES:Daughter of Spies,Podcasts
ATTACH;FMTTYPE=image/png:https://elizabethwinthrop.com/wp-content/uploads/2022/08/Late-Bloomer.png
END:VEVENT
BEGIN:VEVENT
DTSTART;TZID=America/New_York:20221027T150000
DTEND;TZID=America/New_York:20221027T150000
DTSTAMP:20260423T185110
CREATED:20220826T192036Z
LAST-MODIFIED:20221026T173706Z
UID:2533-1666882800-1666882800@elizabethwinthrop.com
SUMMARY:Live Broadcast: Writing Community Chat Show
DESCRIPTION:The WCCS will end season 9 with #author  @EWinthropAlsop!  \nLive at 3 pm Eastern Standard time we will talk about her career as an #author with over 60 works of fiction for all ages\, her influential #writing family\, her children’s #books & more!  \nLive here: https://youtu.be/1quAYQpPZr8 \nTwitter: https://twitter.com/writing_show/status/1584971933162274816?s=20&t=rP7Ft83OhZ159PHVtpBcUA \nFacebook: The WCCS | Facebook Pinned post.
URL:https://elizabethwinthrop.com/event/podcast-writing-community-chat-show/
LOCATION:NY
CATEGORIES:Daughter of Spies,Live Broadcast
ATTACH;FMTTYPE=image/png:https://elizabethwinthrop.com/wp-content/uploads/2022/08/Wrting-Community.png
END:VEVENT
BEGIN:VEVENT
DTSTART;TZID=America/New_York:20221027T150000
DTEND;TZID=America/New_York:20221027T150000
DTSTAMP:20260423T185110
CREATED:20220826T191517Z
LAST-MODIFIED:20221027T182218Z
UID:2526-1666882800-1666882800@elizabethwinthrop.com
SUMMARY:Podcast: Turn the Page
DESCRIPTION:Listen on Apple Podcasts \nOn YouTube \nFacebook: The WCCS | Facebook Pinned post.
URL:https://elizabethwinthrop.com/event/podcast-turn-the-page/
LOCATION:NY
CATEGORIES:Daughter of Spies,Live Broadcast,Podcasts
ATTACH;FMTTYPE=image/png:https://elizabethwinthrop.com/wp-content/uploads/2022/08/Turn-the-Page-Podcast.png
END:VEVENT
BEGIN:VEVENT
DTSTART;TZID=America/New_York:20221005T190000
DTEND;TZID=America/New_York:20221005T200000
DTSTAMP:20260423T185110
CREATED:20220826T191709Z
LAST-MODIFIED:20221010T140405Z
UID:2529-1664996400-1665000000@elizabethwinthrop.com
SUMMARY:Podcast: The Nerd Cantina
DESCRIPTION:Please note that the current podcast times are for taping purposes. The calendar will be updated as soon as the airing dates are available.
URL:https://elizabethwinthrop.com/event/podcast-the-nerd-cantina/
LOCATION:NY
CATEGORIES:Daughter of Spies,Podcasts
ATTACH;FMTTYPE=image/png:https://elizabethwinthrop.com/wp-content/uploads/2022/08/Nerd-Cantina.png
END:VEVENT
BEGIN:VEVENT
DTSTART;TZID=America/New_York:20221004T080000
DTEND;TZID=America/New_York:20221004T080000
DTSTAMP:20260423T185110
CREATED:20220925T152314Z
LAST-MODIFIED:20221010T140330Z
UID:2616-1664870400-1664870400@elizabethwinthrop.com
SUMMARY:Podcast: History Unplugged with Scott Rank
DESCRIPTION:Please note that the current podcast times are for taping purposes. The calendar will be updated as soon as the airing dates are available.
URL:https://elizabethwinthrop.com/event/podcast-history-unplugged-with-scott-rank/
LOCATION:NY
CATEGORIES:Daughter of Spies,Podcasts
ATTACH;FMTTYPE=image/png:https://elizabethwinthrop.com/wp-content/uploads/2022/08/History-unplugged.png
END:VEVENT
BEGIN:VEVENT
DTSTART;TZID=America/New_York:20220929T130000
DTEND;TZID=America/New_York:20220929T130000
DTSTAMP:20260423T185110
CREATED:20220826T192209Z
LAST-MODIFIED:20221010T140215Z
UID:2535-1664456400-1664456400@elizabethwinthrop.com
SUMMARY:Podcast: Caring Caregiver
DESCRIPTION:Please note that the current podcast times are for taping purposes. The calendar will be updated as soon as the airing dates are available.
URL:https://elizabethwinthrop.com/event/podcast-caring-caregiver/
LOCATION:NY
CATEGORIES:Daughter of Spies,Podcasts
ATTACH;FMTTYPE=image/png:https://elizabethwinthrop.com/wp-content/uploads/2022/08/Caring-Caregiver.png
END:VEVENT
BEGIN:VEVENT
DTSTART;TZID=America/New_York:20220916T173000
DTEND;TZID=America/New_York:20220916T183000
DTSTAMP:20260423T185110
CREATED:20220826T191334Z
LAST-MODIFIED:20221010T135844Z
UID:2524-1663349400-1663353000@elizabethwinthrop.com
SUMMARY:Podcast: History Unplugged
DESCRIPTION:Please note that the current podcast times are for taping purposes. The calendar will be updated as soon as the airing dates are available.
URL:https://elizabethwinthrop.com/event/podcast-history-unplugged/
LOCATION:NY
CATEGORIES:Daughter of Spies,Podcasts
ATTACH;FMTTYPE=image/png:https://elizabethwinthrop.com/wp-content/uploads/2022/08/History-unplugged.png
END:VEVENT
END:VCALENDAR