BEGIN:VCALENDAR
VERSION:2.0
PRODID:-//Elizabeth Winthrop Alsop - ECPv6.15.20//NONSGML v1.0//EN
CALSCALE:GREGORIAN
METHOD:PUBLISH
X-WR-CALNAME:Elizabeth Winthrop Alsop
X-ORIGINAL-URL:https://elizabethwinthrop.com
X-WR-CALDESC:Events for Elizabeth Winthrop Alsop
REFRESH-INTERVAL;VALUE=DURATION:PT1H
X-Robots-Tag:noindex
X-PUBLISHED-TTL:PT1H
BEGIN:VTIMEZONE
TZID:America/New_York
BEGIN:DAYLIGHT
TZOFFSETFROM:-0500
TZOFFSETTO:-0400
TZNAME:EDT
DTSTART:20210314T070000
END:DAYLIGHT
BEGIN:STANDARD
TZOFFSETFROM:-0400
TZOFFSETTO:-0500
TZNAME:EST
DTSTART:20211107T060000
END:STANDARD
BEGIN:DAYLIGHT
TZOFFSETFROM:-0500
TZOFFSETTO:-0400
TZNAME:EDT
DTSTART:20220313T070000
END:DAYLIGHT
BEGIN:STANDARD
TZOFFSETFROM:-0400
TZOFFSETTO:-0500
TZNAME:EST
DTSTART:20221106T060000
END:STANDARD
BEGIN:DAYLIGHT
TZOFFSETFROM:-0500
TZOFFSETTO:-0400
TZNAME:EDT
DTSTART:20230312T070000
END:DAYLIGHT
BEGIN:STANDARD
TZOFFSETFROM:-0400
TZOFFSETTO:-0500
TZNAME:EST
DTSTART:20231105T060000
END:STANDARD
BEGIN:DAYLIGHT
TZOFFSETFROM:-0500
TZOFFSETTO:-0400
TZNAME:EDT
DTSTART:20240310T070000
END:DAYLIGHT
BEGIN:STANDARD
TZOFFSETFROM:-0400
TZOFFSETTO:-0500
TZNAME:EST
DTSTART:20241103T060000
END:STANDARD
END:VTIMEZONE
BEGIN:VEVENT
DTSTART;TZID=America/New_York:20230118T190000
DTEND;TZID=America/New_York:20230118T200000
DTSTAMP:20260423T230745
CREATED:20221021T170034Z
LAST-MODIFIED:20221021T170752Z
UID:2674-1674068400-1674072000@elizabethwinthrop.com
SUMMARY:Zoom: A Conversation with Heather Harpham\, Sarah Lawrence College
DESCRIPTION:Zoom interview with Heather Harpham\, professor in the Graduate Writing program at Sarah Lawrence College on January 18th at 7 pm. \nOpen to Sarah Lawrence College Alumnae.
URL:https://elizabethwinthrop.com/event/zoom-a-conversation-with-heather-harpham-sarah-lawrence-college/
CATEGORIES:Daughter of Spies,Live Broadcast
ATTACH;FMTTYPE=image/png:https://elizabethwinthrop.com/wp-content/uploads/2022/10/Sarah-Lawrence.png
END:VEVENT
BEGIN:VEVENT
DTSTART;TZID=America/New_York:20221114T180000
DTEND;TZID=America/New_York:20221114T180000
DTSTAMP:20260423T230745
CREATED:20221004T205431Z
LAST-MODIFIED:20221021T170350Z
UID:2641-1668448800-1668448800@elizabethwinthrop.com
SUMMARY:Livestream: In conversation with Tim Gunn
DESCRIPTION:Click here to attend in person.  \nThe daughter of a famous journalist and his young British bride looks backward at her parents’ storied love affair in London during World War II. In exploring their memories of that long-ago time through her father’s writings and her mother’s stories\, she discovers that their wartime secret-keeping became a habit that undermined the peacetime marriage. \nAs a child\, Elizabeth Winthrop Alsop\, along with her five brothers\, was raised to revere the tribal legends of the Alsop and Roosevelt families. Her parents’ marriage\, lived in the spotlight of 1950s Washington where the author’s father\, journalist Stewart Alsop\, grew increasingly famous\, was not what either of her parents had imagined it would be. Her mother’s strict Catholicism and her father’s restless ambition collided to create a strangely muted and ominous world\, one that mirrored the whispered conversations in the living room as the power brokers of Washington came and went through their side door. Through it all\, her mother\, trained to keep secrets as a decoding agent with MI5\, said very little. In this brave memoir\, the author explores who her mother was\, why alcohol played such an important role in her mother’s life\, and why her mother held herself apart from all her children\, especially her only daughter. In the author’s journey to understand her parents\, particularly her mother\, she comes to realize that the secrets parents keep are the ones that reverberate most powerfully in the lives of their children. \nIn this special event\, Alsop converses with Tim Gunn who\, as the son of an FBI agent and a CIA librarian\, grew up in the same strangely muted and ominous world that was cold war Washington. \nElizabeth Winthrop Alsop is the author of over sixty works of fiction for all ages\, including the novels Island Justice and In My Mother’s House. Robert Stone selected her short story “The Golden Darters\,” for Best American Short Stories. Her fantasy novels for children\, The Castle in the Attic and The Battle for the Castle\, are considered classics of the genre. Daughter of Spies is her first memoir. \nTim Gunn is the Emmy Award winning co-host of the global fashion competition Making the Cut\, an Amazon original series that premiered in 2020 on Prime Video. He is the former co-host of the first 16 seasons of Project Runway\, which began airing in 2004. A New York Times bestselling author\, his 4th book\, The Natty Professor\, was released in 2015 and chronicles his 29 years as an educator. Gunn spent 24 of those years as a teacher and administrator at Parsons School of Design\, the last seven of which he served as chair of the department of fashion design. Author photo by Scott McDermott
URL:https://elizabethwinthrop.com/event/livestream-elizabeth-winthrop-alsop-with-tim-gunn-daughter-of-spies-wartime-secrets-family-lies/
LOCATION:New York Society Library\, 53 East 79th Street\, New York\, NY\, 10075
CATEGORIES:Daughter of Spies,Live Broadcast
END:VEVENT
BEGIN:VEVENT
DTSTART;TZID=America/New_York:20221102T180000
DTEND;TZID=America/New_York:20221102T180000
DTSTAMP:20260423T230745
CREATED:20221101T183052Z
LAST-MODIFIED:20221101T183521Z
UID:2697-1667412000-1667412000@elizabethwinthrop.com
SUMMARY:Facebook Live:  In Conversation with Savy Malenka\, Caring Caregivers
DESCRIPTION:You can join the author at this Facebook link for a live conversation with Savy Malenka of the Caring Caregiver show on Wednesday\, November 2  at 6 pm EDT about Alsop’s memoir\, Daughter of Spies\, Wartime Secrets\, Family Lies. \n \nWelcome to Episode 4 of Season 7 of the Caring Caregiver Show\, sponsored by Givers Guides online magazine\, your guide to Caregiving! We’re here to bring back the joy of Caregiving\, we help Caregivers RELAX – RENEW –RESOURCE – REVIVE\, because we know you’re tired and frustrated and you DESERVE some “CARING”! \n 
URL:https://elizabethwinthrop.com/event/online-event-gimme-a-break-respite-is-a-need/
CATEGORIES:Live Broadcast
ATTACH;FMTTYPE=image/jpeg:https://elizabethwinthrop.com/wp-content/uploads/2022/11/Caring-Caregiver-avatar.jpg
END:VEVENT
BEGIN:VEVENT
DTSTART;TZID=America/New_York:20221027T150000
DTEND;TZID=America/New_York:20221027T150000
DTSTAMP:20260423T230745
CREATED:20220826T192036Z
LAST-MODIFIED:20221026T173706Z
UID:2533-1666882800-1666882800@elizabethwinthrop.com
SUMMARY:Live Broadcast: Writing Community Chat Show
DESCRIPTION:The WCCS will end season 9 with #author  @EWinthropAlsop!  \nLive at 3 pm Eastern Standard time we will talk about her career as an #author with over 60 works of fiction for all ages\, her influential #writing family\, her children’s #books & more!  \nLive here: https://youtu.be/1quAYQpPZr8 \nTwitter: https://twitter.com/writing_show/status/1584971933162274816?s=20&t=rP7Ft83OhZ159PHVtpBcUA \nFacebook: The WCCS | Facebook Pinned post.
URL:https://elizabethwinthrop.com/event/podcast-writing-community-chat-show/
CATEGORIES:Daughter of Spies,Live Broadcast
ATTACH;FMTTYPE=image/png:https://elizabethwinthrop.com/wp-content/uploads/2022/08/Wrting-Community.png
END:VEVENT
BEGIN:VEVENT
DTSTART;TZID=America/New_York:20221027T150000
DTEND;TZID=America/New_York:20221027T150000
DTSTAMP:20260423T230745
CREATED:20220826T191517Z
LAST-MODIFIED:20221027T182218Z
UID:2526-1666882800-1666882800@elizabethwinthrop.com
SUMMARY:Podcast: Turn the Page
DESCRIPTION:Listen on Apple Podcasts \nOn YouTube \nFacebook: The WCCS | Facebook Pinned post.
URL:https://elizabethwinthrop.com/event/podcast-turn-the-page/
CATEGORIES:Daughter of Spies,Live Broadcast,Podcasts
ATTACH;FMTTYPE=image/png:https://elizabethwinthrop.com/wp-content/uploads/2022/08/Turn-the-Page-Podcast.png
END:VEVENT
END:VCALENDAR